BEGIN:VCALENDAR
VERSION:2.0
PRODID:-//dhtmlXScheduler//NONSGML v2.2//EN
X-WR-CALNAME:Events
BEGIN:VEVENT
DTSTART:20230901T090000
DTEND:20231231T235500
UID:0
SUMMARY:Aktualność testowa
END:VEVENT
END:VCALENDAR